BEGIN:VCALENDAR
VERSION:2.0
PRODID:-//APEC C2R - ECPv6.15.14//NONSGML v1.0//EN
CALSCALE:GREGORIAN
METHOD:PUBLISH
X-WR-CALNAME:APEC C2R
X-ORIGINAL-URL:https://www.apec-c2r.org
X-WR-CALDESC:Évènements pour APEC C2R
REFRESH-INTERVAL;VALUE=DURATION:PT1H
X-Robots-Tag:noindex
X-PUBLISHED-TTL:PT1H
BEGIN:VTIMEZONE
TZID:Europe/Paris
BEGIN:DAYLIGHT
TZOFFSETFROM:+0100
TZOFFSETTO:+0200
TZNAME:CEST
DTSTART:20230326T010000
END:DAYLIGHT
BEGIN:STANDARD
TZOFFSETFROM:+0200
TZOFFSETTO:+0100
TZNAME:CET
DTSTART:20231029T010000
END:STANDARD
BEGIN:DAYLIGHT
TZOFFSETFROM:+0100
TZOFFSETTO:+0200
TZNAME:CEST
DTSTART:20240331T010000
END:DAYLIGHT
BEGIN:STANDARD
TZOFFSETFROM:+0200
TZOFFSETTO:+0100
TZNAME:CET
DTSTART:20241027T010000
END:STANDARD
BEGIN:DAYLIGHT
TZOFFSETFROM:+0100
TZOFFSETTO:+0200
TZNAME:CEST
DTSTART:20250330T010000
END:DAYLIGHT
BEGIN:STANDARD
TZOFFSETFROM:+0200
TZOFFSETTO:+0100
TZNAME:CET
DTSTART:20251026T010000
END:STANDARD
END:VTIMEZONE
BEGIN:VEVENT
DTSTART;TZID=Europe/Paris:20241005T093000
DTEND;TZID=Europe/Paris:20241005T130000
DTSTAMP:20260422T040737
CREATED:20241016T091526Z
LAST-MODIFIED:20241016T092043Z
UID:5525-1728120600-1728133200@www.apec-c2r.org
SUMMARY:Assemblée générale de l'APEC-C2R
DESCRIPTION:Plus d’informations sur cette actualité
URL:https://www.apec-c2r.org/evenement/assemblee-generale-de-lapec-c2r/
LOCATION:CRR de Paris\, 14 rue de Madrid\, Paris\, 75008\, France
CATEGORIES:Actualités de l'APEC-C2R
ORGANIZER;CN="APEC-C2R":MAILTO:apec.c2r@gmail.com
END:VEVENT
END:VCALENDAR